BEGIN:VCALENDAR
VERSION:2.0
PRODID:-//Διαδρομές ΙΔΑΙΑΣ - ECPv6.0.1//NONSGML v1.0//EN
CALSCALE:GREGORIAN
METHOD:PUBLISH
X-ORIGINAL-URL:https://ideanroutes.gr
X-WR-CALDESC:Events for Διαδρομές ΙΔΑΙΑΣ
REFRESH-INTERVAL;VALUE=DURATION:PT1H
X-Robots-Tag:noindex
X-PUBLISHED-TTL:PT1H
BEGIN:VTIMEZONE
TZID:Europe/Athens
BEGIN:DAYLIGHT
TZOFFSETFROM:+0200
TZOFFSETTO:+0300
TZNAME:EEST
DTSTART:20260329T010000
END:DAYLIGHT
BEGIN:STANDARD
TZOFFSETFROM:+0300
TZOFFSETTO:+0200
TZNAME:EET
DTSTART:20261025T010000
END:STANDARD
BEGIN:DAYLIGHT
TZOFFSETFROM:+0200
TZOFFSETTO:+0300
TZNAME:EEST
DTSTART:20270328T010000
END:DAYLIGHT
BEGIN:STANDARD
TZOFFSETFROM:+0300
TZOFFSETTO:+0200
TZNAME:EET
DTSTART:20271031T010000
END:STANDARD
END:VTIMEZONE
BEGIN:VEVENT
DTSTART;TZID=Europe/Athens:20260627T170000
DTEND;TZID=Europe/Athens:20260627T190000
DTSTAMP:20260424T191816
CREATED:20240530T181626Z
LAST-MODIFIED:20251229T153221Z
UID:10000032-1782579600-1782586800@ideanroutes.gr
SUMMARY:Τσικουδιά trail
DESCRIPTION:Δήλωσε συμμετοχή στο «ΤΣΙΚΟΥΔΙΑ 12Κ» \, μια διαδρομή που πραγματικά όση τσικουδιά και να αντέχεις\, θα σε ζαλίσει! Θες από ομορφιά\, θες από εναλλαγές \, θες από συνεχeiς ανηφοροκατηφόρες; Αυτή η διαδρομή απευθύνεται σε πιο έμπειρους δρομείς ή σε όσους θέλουν να κάνουν … την υπέρβαση και να γνωρίσουν την περιοχή γύρω από το «ρομαντικό» Βορίτσι. Έχεις όριο δύο ώρες! Καλή απόλαυση!\n\nΒΑΣΙΚΕΣ ΠΛΗΡΟΦΟΡΙΕΣ \nΗμερομηνία αγώνα: Σάββατο 31 Αυγούστου 2024\nΈναρξη : 17:00 μ.μ.\nΑπόσταση: 12 χλμ.\nΥψομετρική διαφορά :+/-: ? (κάθε χρόνο οι διαδρομές αλλάζουν)\nΜέγιστος χρόνος αγώνα: 2:15 ώρες \n✅ Η αρχική προσέγγιση του trail running\n✅ Ανοικτό για όλες τις κατηγορίες – έμπειρους & αρχάριους\n✅ 1 σημείο υδροδοσίας στο 5o χλμ. & στο 9\,5 χλμ. με νερό & ηλεκτρολύτη. Προσοχή! Θα πρέπει να έχετε δικό σας δοχείο – παγούρι\, για να λάβετε νερό καθώς θα υπάρχουν μπουκάλες με βρύση (στόχος η μείωση πλαστικού στις διοργανώσεις μας) . \nΑΝΑΛΥΤΙΚΕΣ ΠΛΗΡΟΦΟΡΙΕΣ \n\nΗ διαδρομή είναι κατάλληλη για όσους επιθυμούν να αυξήσουν την μεγαλύτερη απόσταση που έχουν τρέξει\, για όσους έχουν τρέξει αγώνες δρόμου μεσαίων και μεγάλων αποστάσεων και θέλουν να γνωρίσουν το τρέξιμο σε ορεινό πεδίο.\nΟι συνεχείς εναλλαγές των κλίσεων\, η θερμοκρασία της εποχής και η χιλιομετρική απόσταση\, απαιτούν σίγουρα μια μεγαλύτερη πρόκληση από τα 5 χλμ. Απαραίτητη η βασική φυσική κατάσταση και ο τερματισμός έστω σε προηγούμενο αγώνα 5 χιλιομέτρων.\nΗ διαδρομή κάθε χρόνο αλλάζει και ποτέ δεν είναι ίδια! Διαδρομή έκπληξη\, με τα χιλιόμετρα να κυμαίνονται από 10 έως 14 και τα υψομετρικά από 300 έως 500+ . Έκπληξη!!!\n\nΠΑΡΑΛΑΒΗ ΠΑΚΕΤΩΝ \nΩρες γραμματείας 15:30 έως 16:40 \nΤοποθεσία γραμματείας: αίθουσα πολιτιστικού συλλόγου (κλικ τοποθεσία) \nEΠΑΘΛΑ – ΚΥΠΕΛΛΑ \n\n3 (πολυπληθέστερες ομάδες)\n3 πρώτοι γενικής κατάταξης ανδρών & γυναικών\nΗλικιακές κατ\, ανδρών & γυναικών  18-29\, 30 – 39 \, 40-49\, 50-59\, 60+\nΝεότερος και γηραιότερος σε ηλικία τερματίσαντας\n\n\n\n\n\n\n\n\n\n\n\n\n\n\n\n\n \nΔΙΟΡΓΑΝΩΣΗ\n\n\n\n\n\n \nΣΥΝΔΙΟΡΓΑΝΩΣΗ\n\n\n\n\n\n \nΥΠΟΣΤΗΡΙΞΗ\n\n\n\n\n\n\n\n\n \nΧΟΡΗΓΟΣ ΕΠΙΚΟΙΝΩΝΙΑΣ
URL:https://ideanroutes.gr/event/tsikoudia-trail/
LOCATION:Κεντρική πλατεία Βοριτσίου (Δ.Χερσονήσου)\, Ηράκλειο\, Κρήτη\, 70014\, Ελλάδα
CATEGORIES:Trail Run
ATTACH;FMTTYPE=image/jpeg:https://ideanroutes.gr/wp-content/uploads/2024/05/Tsikoudia.jpg
GEO:35.2843027;25.2991757
END:VEVENT
BEGIN:VEVENT
DTSTART;TZID=Europe/Athens:20260627T173000
DTEND;TZID=Europe/Athens:20260627T190000
DTSTAMP:20260424T191816
CREATED:20240530T185642Z
LAST-MODIFIED:20251229T153226Z
UID:10000033-1782581400-1782586800@ideanroutes.gr
SUMMARY:Λαγουδέρα
DESCRIPTION:Η “Λαγουδέρα” : η φετινη μοναδικη διαδρομη της διοργανωσησ\, εχει γρηγορο σε αρκετα σημεια ρυθμο\, ενω σε αλλα απαιτει δυναμη και υπομονη (ανηφορεσ!).  Για μικρουσ και μεγαλουσ\, σε μονοπατια\, με γελια και…. διαδρομη που δεν περιμενεισ! κατι παραπανω απο 5χλμ\, κατι λιγοτερο απο 10χλμ…. Τα υψομετρικα δε τα λεμε….τα ζεισ!\n\nΒΑΣΙΚΕΣ ΠΛΗΡΟΦΟΡΙΕΣ \nΗμερομηνία αγώνα: Σάββατο 26 Ιουλίου 2025\nΈναρξη : 18:00 μ.μ.\nΑπόσταση: ?\nΥψομετρική διαφορά ? (κάθε χρόνο οι διαδρομές αλλάζουν)\nΜέγιστος χρόνος αγώνα: δεν υπάρχει \n✅ Η αρχική προσέγγιση του trail running\n✅ Ανοικτό για όλες τις κατηγορίες – έμπειρους & αρχάριους\n✅ 1 σημείο υδροδοσίας στα μισά του αγώνα \nΑΝΑΛΥΤΙΚΕΣ ΠΛΗΡΟΦΟΡΙΕΣ \n\nΗ διαδρομή είναι κατάλληλη για όσους επιθυμούν να συμμετάσχουν στον πρώτο τους αγώνα ορεινού τρεξίματος\, ωστόσο θα πρέπει να έχουν κάνει έστω 2-3 προπονήσεις σε χωματόδρομους με ανηφόρες κατηφόρες. Είναι ιδανική και για παιδιά τα οποία όμως κάτω των 14 ετών είναι αναγκαίο να συνοδεύονται από τους γονείς τους. Σίγουρα θα συναρπάσει και τους πιο απαιτητικούς και έμπειρους οι οποίοι τρέχουν μεσαίες αποστάσεις με γρήγορο ρυθμό.\n\nΠΑΡΑΛΑΒΗ ΠΑΚΕΤΩΝ \n\nΩρες γραμματείας 16:00 έως 17:15\nΚόστος 15 ευρώ (πληρώνεται κατά την παραλαβή του πακέτου)\n\nΤοποθεσία γραμματείας: αίθουσα πολιτιστικού συλλόγου (κλικ τοποθεσία) \nEΠΑΘΛΑ – ΚΥΠΕΛΛΑ \n\n3 πρώτοι γενικής κατάταξης ανδρών & γυναικών\n18 – 39 ετών ( 3 πρώτοι άνδρες – 3 πρώτες γυναίκες )\n40 – 59 ετών ( 3 πρώτοι άνδρες – 3 πρώτες γυναίκες )\n60 + ετών ( 3 πρώτοι άνδρες – 3 πρώτες γυναίκες )\n14 – 17 ετών (αγόρια ή κορίτσια)\nομάδα με τις περισσότερες συμμετοχές\n\nΔΙΟΡΓΑΝΩΣΗ\n\n\n\n\n\n \nΣΥΝΔΙΟΡΓΑΝΩΣΗ\n\n\n\n \nGOLDEN SPONSORS\n\n\n\n\n\n\n\n\n\n\n \n\n \n\n \n\n  \nΥΠΟΣΤΗΡΙΞΗ
URL:https://ideanroutes.gr/event/lagoudera/
LOCATION:Κεντρική πλατεία Βοριτσίου (Δ.Χερσονήσου)\, Ηράκλειο\, Κρήτη\, 70014\, Ελλάδα
CATEGORIES:Trail Run
ATTACH;FMTTYPE=image/jpeg:https://ideanroutes.gr/wp-content/uploads/2024/05/zelita.jpg
GEO:35.2843027;25.2991757
END:VEVENT
BEGIN:VEVENT
DTSTART;TZID=Europe/Athens:20260627T200000
DTEND;TZID=Europe/Athens:20260627T203000
DTSTAMP:20260424T191816
CREATED:20240531T200320Z
LAST-MODIFIED:20251229T153231Z
UID:10000035-1782590400-1782592200@ideanroutes.gr
SUMMARY:Βοριτσανή Σκυτάλη
DESCRIPTION:Ξεφύγετε από τα κλασσικά και ζήστε την μαγική εμπειρία της σκυτάλης. Διαβάστε προσεκτικά τους κανόνες\, δηλώστε συμμετοχή με την ομάδα σας και ζήστε κάτι το τελείως διαφορετικό! Μην χάσετε αυτήν την εμπειρία που θα δώσει μοναδικές αναμνήσεις στην ομάδα σας!\nΠΩΣ ΔΟΥΛΕΥΕΙ – ΒΑΣΙΚΕΣ ΠΛΗΡΟΦΟΡΙΕΣ \n\nΗ κάθε ομάδα έχει έναν «Αρχηγό» ο οποίος δηλώνει συμμετοχή εκ μέρους όλων.\nΗ κάθε ομάδα πρέπει να έχει 10 παίκτες\, ούτε λιγότερους ούτε περισσότερους.\nΗ κάθε ομάδα είναι ΑΠΑΡΑΙΤΗΤΟ\, να έχει 5 άνδρες & 5 γυναίκες ( 50-50% ) –  μην σαστίζετε\, αυτό που διαβάσατε. Ομάδα με 7 άνδρες και 3 γυναίκες λόγου χάρη δεν θα γίνει δεκτή.\nΗ ΣΥΝΟΛΙΚΗ απόσταση της σκυτάλης\, είναι 3 χιλιόμετρα – ακριβώς – με 30 μ. +\nΤα 3 αυτά χιλιόμετρα\, γίνονται συνολικά σε κύκλο 300 μέτρων.\nΟ κάθε παίκτης της κάθε ομάδας\, ξεκινάει κρατώντας στο χέρι του μια σκυτάλη. Τρέχει την διαδρομή των 300 μέτρων όσο πιο γρήγορα μπορεί και αφού φτάσει στον ειδικά διαμορφωμένο χώρο\, δίνει την σκυτάλη στον επόμενο που έχει δηλωθεί σε σειρά.\nΕάν σε κάποια αλλαγή πέσει κάτω η σκυτάλη \, η ομάδα δέχεται ποινή 15 δευτερολέπτων\, ΕΠΙ ΤΟΠΟΥ – Άρα δεν φεύγει – χρονομετρείται 15 δευτερόλεπτα και έπειτα φεύγει ο επόμενος / η.\nΝικήτρια είναι η ομάδα της οποίας ο παίκτης / παίκτρια νούμερο 10\, θα φτάσει πρώτος ή πρώτη στον τερματισμό.\nΔΗΛΩΣΕ ΣΥΜΜΕΤΟΧΗ ΤΗΣ ΟΜΑΔΑΣ ΣΟΥ ΕΔΩ Και στείλε το στο registerideanroutes@gmail.com\n\nAΛΛΕΣ ΠΛΗΡΟΦΟΡΙΕΣ \n\nΌλοι οι αθλητές προλαβαίνουν αν θέλουν χρονικά\, να τρέξουν και στη βασική διαδρομή της διοργάνωσης. Η σκυτάλη θα ξεκινήσει με την λήξη της βασικής\, ατομικής διαδρομής.\nΌλες οι ομάδες θα πρέπει να δηλώσουν συμμετοχή έως και 5 ημέρες πριν τον αγώνα. Σε περίπτωση που κάποια ομάδα θα θέλει να κάνει εγγραφή εκείνη την μέρα δεν θα επιτρέπεται.\nΔεν υπάρχουν ηλικιακά όρια .\n\nΔΙΑΔΡΟΜΗ \n \nΜήκους 300 μέτρων ακριβώς! Ξεκινάει από την κεντρική πλατεία Βοριτσίου με κατηφορική κλίση έως τα μισά περίπου και έπειτα ανηφορίζει κυκλικά κερδίζοντας 13 μέτρα συνολικής θετικής υψομετρικής διαφοράς.  \nΌλη η διαδρομή κινείται σε τσιμεντόδρομο\, ενώ υπάρχουν και 20 μέτρα μονοπάτι.   \nΔιαδρομή στο STRAVA https://www.strava.com/routes/3229372129676920168  \nΠΑΡΑΛΑΒΗ ΠΑΚΕΤΩΝ \n\nΩρες γραμματείας 16:00 έως 17:15\nΚόστος 20 ευρώ για όλη την ομάδα (πληρώνεται κατά την παραλαβή του πακέτου)\n\nΤοποθεσία γραμματείας: αίθουσα πολιτιστικού συλλόγου (κλικ τοποθεσία) \nEΠΑΘΛΑ – ΚΥΠΕΛΛΑ \n\n 3 πρώτες ομάδες\n\nΔΙΟΡΓΑΝΩΣΗ\n\n\n\n\n\n \nΣΥΝΔΙΟΡΓΑΝΩΣΗ\n\n\n\n \nGOLDEN SPONSORS\n\n\n\n\n\n\n\n\n\n\n \n\n \n\n \n\n  \nΥΠΟΣΤΗΡΙΞΗ\n\n\n\n\n \nΧΟΡΗΓΟΣ ΕΠΙΚΟΙΝΩΝΙΑΣ
URL:https://ideanroutes.gr/event/voritsani-skytali-10k/
LOCATION:Κεντρική πλατεία Βοριτσίου (Δ.Χερσονήσου)\, Ηράκλειο\, Κρήτη\, 70014\, Ελλάδα
CATEGORIES:Trail Run
ATTACH;FMTTYPE=image/jpeg:https://ideanroutes.gr/wp-content/uploads/2024/05/skitali.jpg
GEO:35.2843027;25.2991757
END:VEVENT
BEGIN:VEVENT
DTSTART;VALUE=DATE:20270116
DTEND;VALUE=DATE:20270118
DTSTAMP:20260424T191816
CREATED:20250123T185220Z
LAST-MODIFIED:20260423T073857Z
UID:10000041-1800057600-1800230399@ideanroutes.gr
SUMMARY:Cretan Backyard Ultra 2027
DESCRIPTION:ΕΠΙΛΟΓΕΣ ΔΙΑΜΟΝΗΣ \nΧΑΡΑΣΟ ( 2 ΧΙΛΙΟΜΕΤΡΑ ΑΠΟΣΤΑΣΗ )\n \n“Thimises cozy”traditional stone village house\nView On AirbnbHome in Charaso · ★4.80 · 1 bedroom · 1 bed · 1 bath \n“Thimises” traditional-stone village house\nView On AirbnbTownhouse in Charaso · ★4.98 · 2 bedrooms · 3 beds · 1 bath \n\nΤο απόλυτο υπερμαραθώνιο event!\nbackyard\nΗ διοργάνωση του Cretan Backyard Ultra 2026 φέρνει μια νέα εμπειρία στους συμμετέχοντες\, ενσωματώνοντας δύο διαφορετικούς κύκλους:\nΜία πιο “παιχνιδιάρικη” και φυσική διαδρομή\, με μεγαλύτερο ποσοστό μονοπατιού\, ήπιες εναλλαγές κλίσεων και αλλαγές κατεύθυνσης\, η οποία θα ξεκινά με το πρώτο φως της ημέρας (Day Loop)·\nκαι μία δεύτερη\, πιο ομαλή και ρυθμική διαδρομή για τη διάρκεια της νύχτας (Night Loop). \nΜαζί\, συνθέτουν μια μοναδική εμπειρία που εξελίσσεται μέσα στο φως και το σκοτάδι\, κρατώντας αμείωτη την ένταση\, τη συγκέντρωση και τη μαγεία του “last one standing”. \n\nΔες αναλυτικά τις διαδρομές\n\n0\nχλμ\n1 κύκλος–\n0\nχλμ\n6 κύκλοι\n0\nχλμ\n15 κύκλοι\n0\nχλμ\n24 κύκλοι\n0\nχλμ\n119 κύκλοι\nΠαγκόσμιο ρεκόρ \n\nΤεχνικές οδηγίες Backyard Ulta 2026 (GR)\n\n\nΤech Ιnstructions backyard ultra 2026 (EN)\n \nΔΙΟΡΓΑΝΩΣΗ\n\n\n\n\n\n \nσυνδιοργανωση\n\n\n \nχρυσοι χορηγοι\n\n \nυποστήριξη
URL:https://ideanroutes.gr/event/cretan-backyard-ultra-2026/
LOCATION:Κεντρική πλατεία Βοριτσίου (Δ.Χερσονήσου)\, Ηράκλειο\, Κρήτη\, 70014\, Ελλάδα
CATEGORIES:Trail Run
ATTACH;FMTTYPE=image/png:https://ideanroutes.gr/wp-content/uploads/2025/01/backyard.png
GEO:35.2843027;25.2991757
END:VEVENT
END:VCALENDAR